BEGIN:VCALENDAR
VERSION:2.0
PRODID:-//American Sports Medicine Institute - ECPv6.15.18//NONSGML v1.0//EN
CALSCALE:GREGORIAN
METHOD:PUBLISH
X-ORIGINAL-URL:https://asmi.org
X-WR-CALDESC:Events for American Sports Medicine Institute
REFRESH-INTERVAL;VALUE=DURATION:PT1H
X-Robots-Tag:noindex
X-PUBLISHED-TTL:PT1H
BEGIN:VTIMEZONE
TZID:America/Chicago
BEGIN:DAYLIGHT
TZOFFSETFROM:-0600
TZOFFSETTO:-0500
TZNAME:CDT
DTSTART:20220313T080000
END:DAYLIGHT
BEGIN:STANDARD
TZOFFSETFROM:-0500
TZOFFSETTO:-0600
TZNAME:CST
DTSTART:20221106T070000
END:STANDARD
BEGIN:DAYLIGHT
TZOFFSETFROM:-0600
TZOFFSETTO:-0500
TZNAME:CDT
DTSTART:20230312T080000
END:DAYLIGHT
BEGIN:STANDARD
TZOFFSETFROM:-0500
TZOFFSETTO:-0600
TZNAME:CST
DTSTART:20231105T070000
END:STANDARD
BEGIN:DAYLIGHT
TZOFFSETFROM:-0600
TZOFFSETTO:-0500
TZNAME:CDT
DTSTART:20240310T080000
END:DAYLIGHT
BEGIN:STANDARD
TZOFFSETFROM:-0500
TZOFFSETTO:-0600
TZNAME:CST
DTSTART:20241103T070000
END:STANDARD
END:VTIMEZONE
BEGIN:VEVENT
DTSTART;TZID=America/Chicago:20231103T063000
DTEND;TZID=America/Chicago:20231103T073000
DTSTAMP:20260422T033338
CREATED:20231023T182604Z
LAST-MODIFIED:20231025T164150Z
UID:3376-1698993000-1698996600@asmi.org
SUMMARY:Ergogenic Aids
DESCRIPTION:**The American Sports Medicine Institute (BOC AP#P400) is approved by the Board of Certification\, Inc\,. to provide continuing education for Athletic Trainers. This program is eligible for a maximum 1 Category A hours/CEU’s. AT’s should claim only those hours actually spent in the educational program. \nContact Caroline May 205-515-6514 or CarolineM@asmi.org for information on CME/CEU \n***Registration Fees: The ASMI Weekly Conferences are offered free of charge and don’t require registration \nObjectives: These weekly sports medicine conferences are designed to provide in-depth study of sports medicine problems. At the end of the academic year\, it is anticipated that participants will be able to:\n1. Demonstrate significant depth of knowledge of the medical aspects of sports medicine.\n2. Diagnose and treat sports medicine problems presenting on the field or in clinical settings.\n3. Apply appropriate basic science tenets to the diagnosis and treatment of sports medicine injuries.\n4. Relate the role of biomechanics in prevention\, treatment\, and rehabilitation of sports medicine injuries.\n5. Demonstrate knowledge of rehabilitation techniques and modalities in returning the injured athlete to competition. \nFor additional information contact Mike Oliver\, 205-918-2161 or Glenn Dortch\, 205-918-2134
URL:https://asmi.org/event/ergogenic-aids-2/
LOCATION:Bruno Conference Center\, 806 St. Vincents Drive\, Birmingham\, AL\, 35205\, United States
ATTACH;FMTTYPE=image/jpeg:https://asmi.org/wp-content/uploads/IMG_1879-copy-scaled.jpg
END:VEVENT
BEGIN:VEVENT
DTSTART;TZID=America/Chicago:20231106T173000
DTEND;TZID=America/Chicago:20231106T183000
DTSTAMP:20260422T033338
CREATED:20231025T164716Z
LAST-MODIFIED:20231025T165149Z
UID:3383-1699291800-1699295400@asmi.org
SUMMARY:Study Design & Applying the Evidence to Clinical Practice
DESCRIPTION:**The American Sports Medicine Institute (BOC AP#P400) is approved by the Board of Certification\, Inc\,. to provide continuing education for Athletic Trainers. This program is eligible for a maximum 1 Category A hours/CEU’s. AT’s should claim only those hours actually spent in the educational program. \nContact Caroline May 205-515-6514 or CarolineM@asmi.org for information on CME/CEU \n***Registration Fees: The ASMI Weekly Conferences are offered free of charge and don’t require registration \nObjectives: These weekly sports medicine conferences are designed to provide in-depth study of sports medicine problems. At the end of the academic year\, it is anticipated that participants will be able to:\n1. Demonstrate significant depth of knowledge of the medical aspects of sports medicine.\n2. Diagnose and treat sports medicine problems presenting on the field or in clinical settings.\n3. Apply appropriate basic science tenets to the diagnosis and treatment of sports medicine injuries.\n4. Relate the role of biomechanics in prevention\, treatment\, and rehabilitation of sports medicine injuries.\n5. Demonstrate knowledge of rehabilitation techniques and modalities in returning the injured athlete to competition. \nFor additional information contact Mike Oliver\, 205-918-2161 or Glenn Dortch\, 205-918-2134
URL:https://asmi.org/event/study-design-applying-the-evidence-to-clinical-practice/
LOCATION:Bruno Conference Center\, 806 St. Vincents Drive\, Birmingham\, AL\, 35205\, United States
ATTACH;FMTTYPE=image/jpeg:https://asmi.org/wp-content/uploads/ASMIlobby-scaled.jpg
END:VEVENT
BEGIN:VEVENT
DTSTART;TZID=America/Chicago:20231110T063000
DTEND;TZID=America/Chicago:20231110T073000
DTSTAMP:20260422T033338
CREATED:20231025T165442Z
LAST-MODIFIED:20231025T170619Z
UID:3385-1699597800-1699601400@asmi.org
SUMMARY:Biologics and Regenerative Medicine in Sports
DESCRIPTION:**The American Sports Medicine Institute (BOC AP#P400) is approved by the Board of Certification\, Inc\,. to provide continuing education for Athletic Trainers. This program is eligible for a maximum 1 Category A hours/CEU’s. AT’s should claim only those hours actually spent in the educational program. \nContact Caroline May 205-515-6514 or CarolineM@asmi.org for information on CME/CEU \n***Registration Fees: The ASMI Weekly Conferences are offered free of charge and don’t require registration \nObjectives: These weekly sports medicine conferences are designed to provide in-depth study of sports medicine problems. At the end of the academic year\, it is anticipated that participants will be able to:\n1. Demonstrate significant depth of knowledge of the medical aspects of sports medicine.\n2. Diagnose and treat sports medicine problems presenting on the field or in clinical settings.\n3. Apply appropriate basic science tenets to the diagnosis and treatment of sports medicine injuries.\n4. Relate the role of biomechanics in prevention\, treatment\, and rehabilitation of sports medicine injuries.\n5. Demonstrate knowledge of rehabilitation techniques and modalities in returning the injured athlete to competition. \nFor additional information contact Mike Oliver\, 205-918-2161 or Glenn Dortch\, 205-918-2134
URL:https://asmi.org/event/biologics-and-regenerative-medicine-in-sports-2/
LOCATION:Bruno Conference Center\, 806 St. Vincents Drive\, Birmingham\, AL\, 35205\, United States
ATTACH;FMTTYPE=image/jpeg:https://asmi.org/wp-content/uploads/Shanti-Spine_Regenerative-Therapy.jpeg
END:VEVENT
BEGIN:VEVENT
DTSTART;TZID=America/Chicago:20231113T173000
DTEND;TZID=America/Chicago:20231113T183000
DTSTAMP:20260422T033338
CREATED:20231025T181746Z
LAST-MODIFIED:20231114T161847Z
UID:3393-1699896600-1699900200@asmi.org
SUMMARY:UCL Reconstruction
DESCRIPTION:CME \nAmerican Sports Medicine Institute is accredited by the Accreditation Council for Continuing Medical Education \nto provide medical education for physicians. \nThe American Sports Medicine Institute designates this live activity for a maximum of 1 AMA PRA Category 1 Credit(s)TM. Physicians should claim only the credit \ncommensurate with the extent of their participation in the activity. \n\nBOC \nThe American Sports Medicine Institute (BOC AP#P400) is approved by the Board of Certification\, Inc. to provide continuing education to Athletic Trainers (ATs). This program \nis eligible for a maximum of 1 hour/Category A CEUs. ATs should claim only those hours actually spent in the educational program. \n\nContact Caroline May carolinem@asmi.org for CME/CEU information. \n\n\n\n***Registration Fees: The ASMI Weekly Conferences are offered free of charge and don’t require registration \nObjectives: These weekly sports medicine conferences are designed to provide in-depth study of sports medicine problems. At the end of the academic year\, it is anticipated that participants will be able to:\n1. Demonstrate significant depth of knowledge of the medical aspects of sports medicine.\n2. Diagnose and treat sports medicine problems presenting on the field or in clinical settings.\n3. Apply appropriate basic science tenets to the diagnosis and treatment of sports medicine injuries.\n4. Relate the role of biomechanics in prevention\, treatment\, and rehabilitation of sports medicine injuries.\n5. Demonstrate knowledge of rehabilitation techniques and modalities in returning the injured athlete to competition. \nFor additional information contact Mike Oliver\, 205-918-2161 or Glenn Dortch\, 205-918-2134
URL:https://asmi.org/event/ucl-reconstruction-2/
LOCATION:Bruno Conference Center\, 806 St. Vincents Drive\, Birmingham\, AL\, 35205\, United States
ATTACH;FMTTYPE=image/jpeg:https://asmi.org/wp-content/uploads/our-mission2.jpg
END:VEVENT
BEGIN:VEVENT
DTSTART;TZID=America/Chicago:20231117T063000
DTEND;TZID=America/Chicago:20231117T073000
DTSTAMP:20260422T033338
CREATED:20231027T162422Z
LAST-MODIFIED:20231114T161730Z
UID:3410-1700202600-1700206200@asmi.org
SUMMARY:Injuries Unique to the Adolescent Athlete
DESCRIPTION:CME \nAmerican Sports Medicine Institute is accredited by the Accreditation Council for Continuing Medical Education \nto provide medical education for physicians. \nThe American Sports Medicine Institute designates this live activity for a maximum of 1 AMA PRA Category 1 Credit(s)TM. Physicians should claim only the credit \ncommensurate with the extent of their participation in the activity. \nBOC \nThe American Sports Medicine Institute (BOC AP#P400) is approved by the Board of Certification\, Inc. to provide continuing education to Athletic Trainers (ATs). This program \nis eligible for a maximum of 1 hour/Category A CEUs. ATs should claim only those hours actually spent in the educational program. \nContact Caroline May carolinem@asmi.org for CME/CEU information. \n\n\n\n***Registration Fees: The ASMI Weekly Conferences are offered free of charge and don’t require registration \nObjectives: These weekly sports medicine conferences are designed to provide in-depth study of sports medicine problems. At the end of the academic year\, it is anticipated that participants will be able to:\n1. Demonstrate significant depth of knowledge of the medical aspects of sports medicine.\n2. Diagnose and treat sports medicine problems presenting on the field or in clinical settings.\n3. Apply appropriate basic science tenets to the diagnosis and treatment of sports medicine injuries.\n4. Relate the role of biomechanics in prevention\, treatment\, and rehabilitation of sports medicine injuries.\n5. Demonstrate knowledge of rehabilitation techniques and modalities in returning the injured athlete to competition. \nFor additional information contact Mike Oliver\, 205-918-2161 or Glenn Dortch\, 205-918-2134
URL:https://asmi.org/event/injuries-unique-to-the-adolescent-athlete-3/
LOCATION:Bruno Conference Center\, 806 St. Vincents Drive\, Birmingham\, AL\, 35205\, United States
ATTACH;FMTTYPE=image/jpeg:https://asmi.org/wp-content/uploads/our-mission1.jpg
END:VEVENT
BEGIN:VEVENT
DTSTART;TZID=America/Chicago:20231120T173000
DTEND;TZID=America/Chicago:20231120T183000
DTSTAMP:20260422T033338
CREATED:20231027T161437Z
LAST-MODIFIED:20231117T163025Z
UID:3400-1700501400-1700505000@asmi.org
SUMMARY:State of the Art MRI
DESCRIPTION:CME \nAmerican Sports Medicine Institute is accredited by the Accreditation Council for Continuing Medical Education \nto provide medical education for physicians. \nThe American Sports Medicine Institute designates this live activity for a maximum of 1 AMA PRA Category 1 Credit(s)TM. Physicians should claim only the credit \ncommensurate with the extent of their participation in the activity. \nBOC \nThe American Sports Medicine Institute (BOC AP#P400) is approved by the Board of Certification\, Inc. to provide continuing education to Athletic Trainers (ATs). This program \nis eligible for a maximum of 1 hour/Category A CEUs. ATs should claim only those hours actually spent in the educational program. \nContact Caroline May carolinem@asmi.org for CME/CEU information. \n\n\n\n***Registration Fees: The ASMI Weekly Conferences are offered free of charge and don’t require registration \nObjectives: These weekly sports medicine conferences are designed to provide in-depth study of sports medicine problems. At the end of the academic year\, it is anticipated that participants will be able to:\n1. Demonstrate significant depth of knowledge of the medical aspects of sports medicine.\n2. Diagnose and treat sports medicine problems presenting on the field or in clinical settings.\n3. Apply appropriate basic science tenets to the diagnosis and treatment of sports medicine injuries.\n4. Relate the role of biomechanics in prevention\, treatment\, and rehabilitation of sports medicine injuries.\n5. Demonstrate knowledge of rehabilitation techniques and modalities in returning the injured athlete to competition. \nFor additional information contact Mike Oliver\, 205-918-2161 or Glenn Dortch\, 205-918-2134
URL:https://asmi.org/event/state-of-the-art-mri/
LOCATION:AL
ATTACH;FMTTYPE=image/jpeg:https://asmi.org/wp-content/uploads/distinguished-lecture-scaled.jpeg
END:VEVENT
BEGIN:VEVENT
DTSTART;TZID=America/Chicago:20231124T063000
DTEND;TZID=America/Chicago:20231124T073000
DTSTAMP:20260422T033338
CREATED:20231027T161916Z
LAST-MODIFIED:20231117T184138Z
UID:3406-1700807400-1700811000@asmi.org
SUMMARY:NO Conference
DESCRIPTION:Due to the Thanksgiving Holiday there will be no conference today
URL:https://asmi.org/event/no-conference-9/
LOCATION:Bruno Conference Center\, 806 St. Vincents Drive\, Birmingham\, AL\, 35205\, United States
ATTACH;FMTTYPE=image/jpeg:https://asmi.org/wp-content/uploads/ASMIlobby-scaled.jpg
END:VEVENT
BEGIN:VEVENT
DTSTART;TZID=America/Chicago:20231127T173000
DTEND;TZID=America/Chicago:20231127T183000
DTSTAMP:20260422T033338
CREATED:20231027T161755Z
LAST-MODIFIED:20231114T161624Z
UID:3403-1701106200-1701109800@asmi.org
SUMMARY:MRI of the Shoulder
DESCRIPTION:CME \nAmerican Sports Medicine Institute is accredited by the Accreditation Council for Continuing Medical Education \nto provide medical education for physicians. \nThe American Sports Medicine Institute designates this live activity for a maximum of 1 AMA PRA Category 1 Credit(s)TM. Physicians should claim only the credit \ncommensurate with the extent of their participation in the activity. \n\nBOC \nThe American Sports Medicine Institute (BOC AP#P400) is approved by the Board of Certification\, Inc. to provide continuing education to Athletic Trainers (ATs). This program \nis eligible for a maximum of 1 hour/Category A CEUs. ATs should claim only those hours actually spent in the educational program. \n\nContact Caroline May carolinem@asmi.org for CME/CEU information. \n\n\n\n***Registration Fees: The ASMI Weekly Conferences are offered free of charge and don’t require registration \nObjectives: These weekly sports medicine conferences are designed to provide in-depth study of sports medicine problems. At the end of the academic year\, it is anticipated that participants will be able to:\n1. Demonstrate significant depth of knowledge of the medical aspects of sports medicine.\n2. Diagnose and treat sports medicine problems presenting on the field or in clinical settings.\n3. Apply appropriate basic science tenets to the diagnosis and treatment of sports medicine injuries.\n4. Relate the role of biomechanics in prevention\, treatment\, and rehabilitation of sports medicine injuries.\n5. Demonstrate knowledge of rehabilitation techniques and modalities in returning the injured athlete to competition. \nFor additional information contact Mike Oliver\, 205-918-2161 or Glenn Dortch\, 205-918-2134
URL:https://asmi.org/event/mri-of-the-shoulder-2/
LOCATION:Bruno Conference Center\, 806 St. Vincents Drive\, Birmingham\, AL\, 35205\, United States
ATTACH;FMTTYPE=image/jpeg:https://asmi.org/wp-content/uploads/ASMIlobby-scaled.jpg
END:VEVENT
END:VCALENDAR